BEGIN:VCALENDAR
VERSION:2.0
PRODID:-//wp-events-plugin.com//7.2.3.1//EN
TZID:America/Chicago
X-WR-TIMEZONE:America/Chicago
BEGIN:VEVENT
UID:1@rudkinproductions.com
DTSTART;TZID=America/Chicago:20250618T173000
DTEND;TZID=America/Chicago:20250618T193000
DTSTAMP:20250521T180017Z
URL:https://rudkinproductions.com/events/all/bbq-business-mixer/
SUMMARY:Hill Country Networking Mixer
DESCRIPTION:Join fellow professionals for a relaxed evening of conversation
 \, connection\, and community.\nWe’re gathering at Pure Country BBQ &am
 p\; Grill for a casual networking evening — no agenda\, no pressure\, j
 ust real conversation and good company\nEvent Details:\n• What: Busine
 ss Networking Mixer\n• When: Wednesday\, June 18\, 2025\n• Time: 5
 :30 PM – 7:30 PM\n• Where: Pure Country BBQ &amp\; Grill – 1481 S M
 ain St\, Boerne\, TX 78006\nPlease Note:\n• This is a networking only e
 vent\n• Food and drinks are not provided but will be available for pur
 chase from Pure Country’s extended happy hour menu\nOrganizer: Rudkin P
 roductions &amp\; Digital Domino\nCome early\, grab a bite\, and grow your
  network — we’d love to see you there!\n_
ATTACH;FMTTYPE=image/jpeg:https://rudkinproductions.com/events/wp-content/
 uploads/2025/05/Mixer-3.jpg
LOCATION:Pure Country BBQ & Grill\, 1481 South Main St.\, Boerne\, TX\, 780
 06\, United States
X-APPLE-STRUCTURED-LOCATION;VALUE=URI;X-ADDRESS=1481 South Main St.\, Boern
 e\, TX\, 78006\, United States;X-APPLE-RADIUS=100;X-TITLE=Pure Country BBQ
  & Grill:geo:0,0
END:VEVENT
BEGIN:VTIMEZONE
TZID:America/Chicago
X-LIC-LOCATION:America/Chicago
BEGIN:DAYLIGHT
DTSTART:20250309T030000
TZOFFSETFROM:-0600
TZOFFSETTO:-0500
TZNAME:CDT
END:DAYLIGHT
END:VTIMEZONE
END:VCALENDAR